BEGIN:VCALENDAR
VERSION:2.0
PRODID:-//Puget-Infos.fr - ECPv6.15.20//NONSGML v1.0//EN
CALSCALE:GREGORIAN
METHOD:PUBLISH
X-WR-CALNAME:Puget-Infos.fr
X-ORIGINAL-URL:https://www.puget-infos.fr
X-WR-CALDESC:Évènements pour Puget-Infos.fr
REFRESH-INTERVAL;VALUE=DURATION:PT1H
X-Robots-Tag:noindex
X-PUBLISHED-TTL:PT1H
BEGIN:VTIMEZONE
TZID:Europe/Paris
BEGIN:DAYLIGHT
TZOFFSETFROM:+0100
TZOFFSETTO:+0200
TZNAME:CEST
DTSTART:20250330T010000
END:DAYLIGHT
BEGIN:STANDARD
TZOFFSETFROM:+0200
TZOFFSETTO:+0100
TZNAME:CET
DTSTART:20251026T010000
END:STANDARD
BEGIN:DAYLIGHT
TZOFFSETFROM:+0100
TZOFFSETTO:+0200
TZNAME:CEST
DTSTART:20260329T010000
END:DAYLIGHT
BEGIN:STANDARD
TZOFFSETFROM:+0200
TZOFFSETTO:+0100
TZNAME:CET
DTSTART:20261025T010000
END:STANDARD
BEGIN:DAYLIGHT
TZOFFSETFROM:+0100
TZOFFSETTO:+0200
TZNAME:CEST
DTSTART:20270328T010000
END:DAYLIGHT
BEGIN:STANDARD
TZOFFSETFROM:+0200
TZOFFSETTO:+0100
TZNAME:CET
DTSTART:20271031T010000
END:STANDARD
END:VTIMEZONE
BEGIN:VEVENT
DTSTART;VALUE=DATE:20260418
DTEND;VALUE=DATE:20260419
DTSTAMP:20260421T123544
CREATED:20260402T123432Z
LAST-MODIFIED:20260402T123432Z
UID:1079-1776470400-1776556799@www.puget-infos.fr
SUMMARY:[Roquebrune] Les lucioles Rando & Trail
DESCRIPTION:La Ville de Roquebrune-sur-Argens est heureuse d’accueillir la 20ᵉ édition des Lucioles – Rando & Trail\, un rendez-vous incontournable mêlant sport\, nature et aventure nocturne. \nProgramme\n\nTrail ou randonnée nocturne de 14 km\nTrail ou randonnée nocturne de 7 km\nCourses enfants (1\, 2 ou 3 boucles de 900 m)\n\nPour cette édition anniversaire\, de belles surprises attendent les participants\nUn événement sportif\, convivial et solidaire qui met en valeur notre territoire et ses paysages exceptionnels \nInscriptions ouvertes : https://leslucioles.run/
URL:https://www.puget-infos.fr/event/roquebrune-les-lucioles-rando-trail/
CATEGORIES:Aux alentours de Puget
ATTACH;FMTTYPE=image/png:https://www.puget-infos.fr/wp-content/uploads/2026/04/260418_event_lucioles.png
END:VEVENT
END:VCALENDAR