BEGIN:VCALENDAR
VERSION:2.0
PRODID:-//Puget-Infos.fr - ECPv6.15.20//NONSGML v1.0//EN
CALSCALE:GREGORIAN
METHOD:PUBLISH
X-ORIGINAL-URL:https://www.puget-infos.fr
X-WR-CALDESC:Évènements pour Puget-Infos.fr
REFRESH-INTERVAL;VALUE=DURATION:PT1H
X-Robots-Tag:noindex
X-PUBLISHED-TTL:PT1H
BEGIN:VTIMEZONE
TZID:Europe/Paris
BEGIN:DAYLIGHT
TZOFFSETFROM:+0100
TZOFFSETTO:+0200
TZNAME:CEST
DTSTART:20250330T010000
END:DAYLIGHT
BEGIN:STANDARD
TZOFFSETFROM:+0200
TZOFFSETTO:+0100
TZNAME:CET
DTSTART:20251026T010000
END:STANDARD
BEGIN:DAYLIGHT
TZOFFSETFROM:+0100
TZOFFSETTO:+0200
TZNAME:CEST
DTSTART:20260329T010000
END:DAYLIGHT
BEGIN:STANDARD
TZOFFSETFROM:+0200
TZOFFSETTO:+0100
TZNAME:CET
DTSTART:20261025T010000
END:STANDARD
BEGIN:DAYLIGHT
TZOFFSETFROM:+0100
TZOFFSETTO:+0200
TZNAME:CEST
DTSTART:20270328T010000
END:DAYLIGHT
BEGIN:STANDARD
TZOFFSETFROM:+0200
TZOFFSETTO:+0100
TZNAME:CET
DTSTART:20271031T010000
END:STANDARD
END:VTIMEZONE
BEGIN:VEVENT
DTSTART;TZID=Europe/Paris:20260425T100000
DTEND;TZID=Europe/Paris:20260426T180000
DTSTAMP:20260421T170235
CREATED:20260318T111212Z
LAST-MODIFIED:20260318T111212Z
UID:792-1777111200-1777226400@www.puget-infos.fr
SUMMARY:[Salon] 4ème salon du mariage
DESCRIPTION:Envie d’un mariage à votre image\, sans perdre des semaines à chercher les bons prestataires ?\n\nRendez-vous les 25 & 26 Avril 2026 au Colored Ranch à Puget-sur-Argens pour la 4ᵉ édition du Salon du Mariage. Deux jours pour découvrir\, comparer et réserver plus facilement tout ce qui fera la différence le jour J\, dans un lieu au charme provençal.\n\nSur place\, retrouvez en une seule visite les indispensables de votre organisation : décoration\, mode & beauté\, photo/vidéo\, réception & gastronomie\, animations\, papeterie\, transport\, et bien plus. Source\n\nÀ ne pas manquer : 2 000 € de prestations à gagnerTentez votre chance avec 3 lots (valeur totale 2 000 €) :• 1 000 € de prestation traiteur• 500 € (Jardins des Fleurs)• 500 € (Vidéaste / Photographe / DJ)1 inscription = 1 chance. Source\n\nInfos pratiques• Horaires : 10h – 18h (non-stop)• Entrée : gratuite• Parking : gratuit (sur place)• Restauration : sur place
URL:https://www.puget-infos.fr/event/salon-4eme-salon-du-mariage/
LOCATION:Colored Ranch\, 1053\, Chemin de Callas\, Puget-sur-Argens\, 83480\, France
CATEGORIES:A Puget sur Argens
ATTACH;FMTTYPE=image/jpeg:https://www.puget-infos.fr/wp-content/uploads/2026/03/260425_event_salon-mariage-e1773832309337.jpg
END:VEVENT
BEGIN:VEVENT
DTSTART;TZID=Europe/Paris:20260425T203000
DTEND;TZID=Europe/Paris:20260425T230000
DTSTAMP:20260421T170235
CREATED:20260316T135750Z
LAST-MODIFIED:20260316T135750Z
UID:749-1777149000-1777158000@www.puget-infos.fr
SUMMARY:[Le Mas Concert] Miossec
DESCRIPTION:
URL:https://www.puget-infos.fr/event/le-mas-concert-miossec/
LOCATION:Mas des Escaravatiers\, 514\, chemin de Saint-Tropez\, Puget sur Argens\, 83480\, France
CATEGORIES:A Puget sur Argens
ATTACH;FMTTYPE=image/png:https://www.puget-infos.fr/wp-content/uploads/2026/03/260425_event_miossec.png
ORGANIZER;CN="Le Mas Production":MAILTO:communication@lemas-concert.com
END:VEVENT
END:VCALENDAR