BEGIN:VCALENDAR
VERSION:2.0
PRODID:-//Puget-Infos.fr - ECPv6.15.20//NONSGML v1.0//EN
CALSCALE:GREGORIAN
METHOD:PUBLISH
X-ORIGINAL-URL:https://www.puget-infos.fr
X-WR-CALDESC:Évènements pour Puget-Infos.fr
REFRESH-INTERVAL;VALUE=DURATION:PT1H
X-Robots-Tag:noindex
X-PUBLISHED-TTL:PT1H
BEGIN:VTIMEZONE
TZID:Europe/Paris
BEGIN:DAYLIGHT
TZOFFSETFROM:+0100
TZOFFSETTO:+0200
TZNAME:CEST
DTSTART:20250330T010000
END:DAYLIGHT
BEGIN:STANDARD
TZOFFSETFROM:+0200
TZOFFSETTO:+0100
TZNAME:CET
DTSTART:20251026T010000
END:STANDARD
BEGIN:DAYLIGHT
TZOFFSETFROM:+0100
TZOFFSETTO:+0200
TZNAME:CEST
DTSTART:20260329T010000
END:DAYLIGHT
BEGIN:STANDARD
TZOFFSETFROM:+0200
TZOFFSETTO:+0100
TZNAME:CET
DTSTART:20261025T010000
END:STANDARD
BEGIN:DAYLIGHT
TZOFFSETFROM:+0100
TZOFFSETTO:+0200
TZNAME:CEST
DTSTART:20270328T010000
END:DAYLIGHT
BEGIN:STANDARD
TZOFFSETFROM:+0200
TZOFFSETTO:+0100
TZNAME:CET
DTSTART:20271031T010000
END:STANDARD
END:VTIMEZONE
BEGIN:VEVENT
DTSTART;TZID=Europe/Paris:20260424T173000
DTEND;TZID=Europe/Paris:20260424T193000
DTSTAMP:20260421T123622
CREATED:20260414T095140Z
LAST-MODIFIED:20260414T095340Z
UID:1287-1777051800-1777059000@www.puget-infos.fr
SUMMARY:Inauguration du Grand Café de la Place
DESCRIPTION:Seb et son équipe vous invite à l’inauguration du nouveau café de la place le vendredi 24 avril à partir de 17h30. \nIls vous attendent nombreux pour cette nouvelle aventure.
URL:https://www.puget-infos.fr/event/inauguration-du-grand-cafe-de-la-place/
LOCATION:Café de la Place (chez Seb)\, 6 place le Bigot\, Puget sur Argens\, 83480\, France
CATEGORIES:A Puget sur Argens
ATTACH;FMTTYPE=image/png:https://www.puget-infos.fr/wp-content/uploads/2026/04/260427_event_inauguration_seb.png
END:VEVENT
END:VCALENDAR