BEGIN:VCALENDAR
VERSION:2.0
PRODID:-//Puget-Infos.fr - ECPv6.15.20//NONSGML v1.0//EN
CALSCALE:GREGORIAN
METHOD:PUBLISH
X-ORIGINAL-URL:https://www.puget-infos.fr
X-WR-CALDESC:Évènements pour Puget-Infos.fr
REFRESH-INTERVAL;VALUE=DURATION:PT1H
X-Robots-Tag:noindex
X-PUBLISHED-TTL:PT1H
BEGIN:VTIMEZONE
TZID:Europe/Paris
BEGIN:DAYLIGHT
TZOFFSETFROM:+0100
TZOFFSETTO:+0200
TZNAME:CEST
DTSTART:20250330T010000
END:DAYLIGHT
BEGIN:STANDARD
TZOFFSETFROM:+0200
TZOFFSETTO:+0100
TZNAME:CET
DTSTART:20251026T010000
END:STANDARD
BEGIN:DAYLIGHT
TZOFFSETFROM:+0100
TZOFFSETTO:+0200
TZNAME:CEST
DTSTART:20260329T010000
END:DAYLIGHT
BEGIN:STANDARD
TZOFFSETFROM:+0200
TZOFFSETTO:+0100
TZNAME:CET
DTSTART:20261025T010000
END:STANDARD
BEGIN:DAYLIGHT
TZOFFSETFROM:+0100
TZOFFSETTO:+0200
TZNAME:CEST
DTSTART:20270328T010000
END:DAYLIGHT
BEGIN:STANDARD
TZOFFSETFROM:+0200
TZOFFSETTO:+0100
TZNAME:CET
DTSTART:20271031T010000
END:STANDARD
END:VTIMEZONE
BEGIN:VEVENT
DTSTART;TZID=Europe/Paris:20260411T090000
DTEND;TZID=Europe/Paris:20260411T120000
DTSTAMP:20260421T124616
CREATED:20260401T095113Z
LAST-MODIFIED:20260402T073541Z
UID:1041-1775898000-1775908800@www.puget-infos.fr
SUMMARY:[Sport] Open Futsal mixte jeunes
DESCRIPTION:Le 11 avril\, nos jeunes débarquent pour un tournoi mixte de folie. \n4 équipes\, du jeu\, du plaisir et sûrement quelques pépites à voir.Buvette sur place pour reprendre des forces (ou juste se régaler)Viens voir\, encourager\, rigoler… bref passer un bon moment avec nous.
URL:https://www.puget-infos.fr/event/open-futsal-mixte-jeunes/
LOCATION:Salle Paul Cavalier\, Boulevard Robert Martinez\, Puget sur Argens\, 83480\, France
CATEGORIES:A Puget sur Argens
ATTACH;FMTTYPE=image/png:https://www.puget-infos.fr/wp-content/uploads/2026/04/260411_event_futsal.png
END:VEVENT
END:VCALENDAR