BEGIN:VCALENDAR
VERSION:2.0
PRODID:-//Puget-Infos.fr - ECPv6.15.20//NONSGML v1.0//EN
CALSCALE:GREGORIAN
METHOD:PUBLISH
X-WR-CALNAME:Puget-Infos.fr
X-ORIGINAL-URL:https://www.puget-infos.fr
X-WR-CALDESC:Évènements pour Puget-Infos.fr
REFRESH-INTERVAL;VALUE=DURATION:PT1H
X-Robots-Tag:noindex
X-PUBLISHED-TTL:PT1H
BEGIN:VTIMEZONE
TZID:Europe/Paris
BEGIN:DAYLIGHT
TZOFFSETFROM:+0100
TZOFFSETTO:+0200
TZNAME:CEST
DTSTART:20250330T010000
END:DAYLIGHT
BEGIN:STANDARD
TZOFFSETFROM:+0200
TZOFFSETTO:+0100
TZNAME:CET
DTSTART:20251026T010000
END:STANDARD
BEGIN:DAYLIGHT
TZOFFSETFROM:+0100
TZOFFSETTO:+0200
TZNAME:CEST
DTSTART:20260329T010000
END:DAYLIGHT
BEGIN:STANDARD
TZOFFSETFROM:+0200
TZOFFSETTO:+0100
TZNAME:CET
DTSTART:20261025T010000
END:STANDARD
BEGIN:DAYLIGHT
TZOFFSETFROM:+0100
TZOFFSETTO:+0200
TZNAME:CEST
DTSTART:20270328T010000
END:DAYLIGHT
BEGIN:STANDARD
TZOFFSETFROM:+0200
TZOFFSETTO:+0100
TZNAME:CET
DTSTART:20271031T010000
END:STANDARD
END:VTIMEZONE
BEGIN:VEVENT
DTSTART;TZID=Europe/Paris:20260328T103000
DTEND;TZID=Europe/Paris:20260328T133000
DTSTAMP:20260421T123527
CREATED:20260324T100924Z
LAST-MODIFIED:20260324T100924Z
UID:922-1774693800-1774704600@www.puget-infos.fr
SUMMARY:A la découverte des micropousses en cuisine
DESCRIPTION:Nous vous invitons à une dégustation gourmande autour des créations des chefs Christian Vaudois et Robert Morel qui mettront à l’honneur les micropousses cultivées par Quête de Saveurs & Fraîcheur. \nAu programme :\n– des démonstrations de recettes créatives et originales (mais simples à réaliser)\n– une dégustation d’amuse-bouches\, mousses et préparations gourmandes\n– des associations surprenantes entre plats et jeunes pousses \nLes micropousses\, récoltées juste après leurs premières feuilles\, sont riches en saveurs\, en couleurs et en nutriments. On les pense souvent décoratives et pourtant\, les micropousses sont de véritables concentrés de saveurs. Les chefs vous montreront comment elles peuvent sublimer une assiette et apporter une vraie signature culinaire \nUne belle occasion de découvrir le lien entre producteur et cuisine\, et de comprendre le parcours de la graine à l’assiette !
URL:https://www.puget-infos.fr/event/a-la-decouverte-des-micropousses-en-cuisine/
LOCATION:Ô Paysans\, 85 chemin de la Tuilière\, Puget sur Argens\, 83480\, France
CATEGORIES:A Puget sur Argens
ATTACH;FMTTYPE=image/jpeg:https://www.puget-infos.fr/wp-content/uploads/2026/03/20260328_event_opaysans.jpg
END:VEVENT
BEGIN:VEVENT
DTSTART;TZID=Europe/Paris:20260328T203000
DTEND;TZID=Europe/Paris:20260328T215000
DTSTAMP:20260421T123527
CREATED:20260311T093117Z
LAST-MODIFIED:20260316T131138Z
UID:594-1774729800-1774734600@www.puget-infos.fr
SUMMARY:[Humour] Chantal Ladesou / Iconique
DESCRIPTION:SPECTACLE COMPLET
URL:https://www.puget-infos.fr/event/humour-chantal-ladesou-iconique/
LOCATION:Espace culturel Victor Hugo\, Rue Isnard\, Puget sur Argens\, 83480\, France
CATEGORIES:A Puget sur Argens
ATTACH;FMTTYPE=image/png:https://www.puget-infos.fr/wp-content/uploads/2026/03/260328_event_ladesou-e1773666118190.png
ORGANIZER;CN="Mairie de Puget sur Argens":MAILTO:culture@mairie-puget-sur-argens.com
END:VEVENT
END:VCALENDAR