BEGIN:VCALENDAR
VERSION:2.0
PRODID:-//Puget-Infos.fr - ECPv6.15.20//NONSGML v1.0//EN
CALSCALE:GREGORIAN
METHOD:PUBLISH
X-WR-CALNAME:Puget-Infos.fr
X-ORIGINAL-URL:https://www.puget-infos.fr
X-WR-CALDESC:Évènements pour Puget-Infos.fr
REFRESH-INTERVAL;VALUE=DURATION:PT1H
X-Robots-Tag:noindex
X-PUBLISHED-TTL:PT1H
BEGIN:VTIMEZONE
TZID:Europe/Paris
BEGIN:DAYLIGHT
TZOFFSETFROM:+0100
TZOFFSETTO:+0200
TZNAME:CEST
DTSTART:20250330T010000
END:DAYLIGHT
BEGIN:STANDARD
TZOFFSETFROM:+0200
TZOFFSETTO:+0100
TZNAME:CET
DTSTART:20251026T010000
END:STANDARD
BEGIN:DAYLIGHT
TZOFFSETFROM:+0100
TZOFFSETTO:+0200
TZNAME:CEST
DTSTART:20260329T010000
END:DAYLIGHT
BEGIN:STANDARD
TZOFFSETFROM:+0200
TZOFFSETTO:+0100
TZNAME:CET
DTSTART:20261025T010000
END:STANDARD
BEGIN:DAYLIGHT
TZOFFSETFROM:+0100
TZOFFSETTO:+0200
TZNAME:CEST
DTSTART:20270328T010000
END:DAYLIGHT
BEGIN:STANDARD
TZOFFSETFROM:+0200
TZOFFSETTO:+0100
TZNAME:CET
DTSTART:20271031T010000
END:STANDARD
END:VTIMEZONE
BEGIN:VEVENT
DTSTART;TZID=Europe/Paris:20260320T203000
DTEND;TZID=Europe/Paris:20260320T220000
DTSTAMP:20260421T141336
CREATED:20260311T091235Z
LAST-MODIFIED:20260316T130755Z
UID:582-1774038600-1774044000@www.puget-infos.fr
SUMMARY:[Concert] Quatuor Girard et Michel Lethiec
DESCRIPTION:Le concert du Quatuor Girard avec Michel Lethiec promet d’être une soirée exceptionnelle\, mêlant des oeuvres classiques et contemporaines. Le programme débute avec le quintette en La majeur K. 581 de W. A. Mozart\, une pièce maîtresse du répertoire de musique de chambre\, connue pour sa richesse harmonique et sa virtuosité.\nEnsuite\, le concert présente la création mondiale du quintette d’Alain Fourchotte. Cette œuvre contemporaine offre une exploration audacieuse des textures et des sonorités\, mettant en valeur la clarinette de Michel Lethiec et les talents du Quatuor Girard. Le programme se poursuit avec la célèbre « Rhapsodie in Blue » de George Gershwin. Cette œuvre emblématique\, qui marie jazz et musique classique\, séduira le public avec ses mélodies envoûtantes et ses rythmes vibrants.\nEnfin\, des extraits de « West Side Story » de Leonard Bernstein clôtureront la soirée.
URL:https://www.puget-infos.fr/event/concert-quatuor-girard-et-michel-lethiec/
LOCATION:Espace culturel Victor Hugo\, Rue Isnard\, Puget sur Argens\, 83480\, France
CATEGORIES:A Puget sur Argens
ATTACH;FMTTYPE=image/png:https://www.puget-infos.fr/wp-content/uploads/2026/03/260320_event_quatuor_girard-e1773666452388.png
ORGANIZER;CN="Mairie de Puget sur Argens":MAILTO:culture@mairie-puget-sur-argens.com
END:VEVENT
END:VCALENDAR