BEGIN:VCALENDAR
VERSION:2.0
PRODID:-//Puget-Infos.fr - ECPv6.15.20//NONSGML v1.0//EN
CALSCALE:GREGORIAN
METHOD:PUBLISH
X-WR-CALNAME:Puget-Infos.fr
X-ORIGINAL-URL:https://www.puget-infos.fr
X-WR-CALDESC:Évènements pour Puget-Infos.fr
REFRESH-INTERVAL;VALUE=DURATION:PT1H
X-Robots-Tag:noindex
X-PUBLISHED-TTL:PT1H
BEGIN:VTIMEZONE
TZID:Europe/Paris
BEGIN:DAYLIGHT
TZOFFSETFROM:+0100
TZOFFSETTO:+0200
TZNAME:CEST
DTSTART:20250330T010000
END:DAYLIGHT
BEGIN:STANDARD
TZOFFSETFROM:+0200
TZOFFSETTO:+0100
TZNAME:CET
DTSTART:20251026T010000
END:STANDARD
BEGIN:DAYLIGHT
TZOFFSETFROM:+0100
TZOFFSETTO:+0200
TZNAME:CEST
DTSTART:20260329T010000
END:DAYLIGHT
BEGIN:STANDARD
TZOFFSETFROM:+0200
TZOFFSETTO:+0100
TZNAME:CET
DTSTART:20261025T010000
END:STANDARD
BEGIN:DAYLIGHT
TZOFFSETFROM:+0100
TZOFFSETTO:+0200
TZNAME:CEST
DTSTART:20270328T010000
END:DAYLIGHT
BEGIN:STANDARD
TZOFFSETFROM:+0200
TZOFFSETTO:+0100
TZNAME:CET
DTSTART:20271031T010000
END:STANDARD
END:VTIMEZONE
BEGIN:VEVENT
DTSTART;TZID=Europe/Paris:20260704T193000
DTEND;TZID=Europe/Paris:20260704T230000
DTSTAMP:20260421T152046
CREATED:20260316T132855Z
LAST-MODIFIED:20260316T132910Z
UID:719-1783193400-1783206000@www.puget-infos.fr
SUMMARY:[Le Mas Concert] Julien Clerc
DESCRIPTION:
URL:https://www.puget-infos.fr/event/le-mas-concert-julien-clerc/
LOCATION:Mas des Escaravatiers\, 514\, chemin de Saint-Tropez\, Puget sur Argens\, 83480\, France
CATEGORIES:A Puget sur Argens
ATTACH;FMTTYPE=image/png:https://www.puget-infos.fr/wp-content/uploads/2026/03/260704_event_clerc.png
ORGANIZER;CN="Le Mas Production":MAILTO:communication@lemas-concert.com
END:VEVENT
BEGIN:VEVENT
DTSTART;TZID=Europe/Paris:20260708T193000
DTEND;TZID=Europe/Paris:20260708T230000
DTSTAMP:20260421T152046
CREATED:20260316T133306Z
LAST-MODIFIED:20260316T133306Z
UID:722-1783539000-1783551600@www.puget-infos.fr
SUMMARY:[Le Mas Concert] Ibrahim Maalouf
DESCRIPTION:Ibrahim Maalouf & the trumpets of Michel-Ange Vol.2
URL:https://www.puget-infos.fr/event/le-mas-concert-ibrahim-maalouf/
LOCATION:Mas des Escaravatiers\, 514\, chemin de Saint-Tropez\, Puget sur Argens\, 83480\, France
CATEGORIES:A Puget sur Argens
ATTACH;FMTTYPE=image/png:https://www.puget-infos.fr/wp-content/uploads/2026/03/260708_event_maalouf.png
ORGANIZER;CN="Le Mas Production":MAILTO:communication@lemas-concert.com
END:VEVENT
BEGIN:VEVENT
DTSTART;TZID=Europe/Paris:20260710T193000
DTEND;TZID=Europe/Paris:20260710T230000
DTSTAMP:20260421T152046
CREATED:20260316T133544Z
LAST-MODIFIED:20260316T133544Z
UID:725-1783711800-1783724400@www.puget-infos.fr
SUMMARY:[Le Mas Concert] Gaëtan Roussel
DESCRIPTION:
URL:https://www.puget-infos.fr/event/le-mas-concert-gaetan-roussel/
LOCATION:Mas des Escaravatiers\, 514\, chemin de Saint-Tropez\, Puget sur Argens\, 83480\, France
CATEGORIES:A Puget sur Argens
ATTACH;FMTTYPE=image/png:https://www.puget-infos.fr/wp-content/uploads/2026/03/260710_event_roussel.png
ORGANIZER;CN="Le Mas Production":MAILTO:communication@lemas-concert.com
END:VEVENT
BEGIN:VEVENT
DTSTART;TZID=Europe/Paris:20260716T193000
DTEND;TZID=Europe/Paris:20260716T230000
DTSTAMP:20260421T152046
CREATED:20260316T135957Z
LAST-MODIFIED:20260316T135957Z
UID:752-1784230200-1784242800@www.puget-infos.fr
SUMMARY:[Le Mas Concert] Feu! Chatterton
DESCRIPTION:
URL:https://www.puget-infos.fr/event/le-mas-concert-feu-chatterton/
LOCATION:Mas des Escaravatiers\, 514\, chemin de Saint-Tropez\, Puget sur Argens\, 83480\, France
CATEGORIES:A Puget sur Argens
ORGANIZER;CN="Le Mas Production":MAILTO:communication@lemas-concert.com
END:VEVENT
BEGIN:VEVENT
DTSTART;TZID=Europe/Paris:20260717T193000
DTEND;TZID=Europe/Paris:20260717T230000
DTSTAMP:20260421T152046
CREATED:20260316T133828Z
LAST-MODIFIED:20260316T133828Z
UID:728-1784316600-1784329200@www.puget-infos.fr
SUMMARY:[Le Mas Concert] MPL
DESCRIPTION:
URL:https://www.puget-infos.fr/event/le-mas-concert-mpl/
LOCATION:Mas des Escaravatiers\, 514\, chemin de Saint-Tropez\, Puget sur Argens\, 83480\, France
CATEGORIES:A Puget sur Argens
ATTACH;FMTTYPE=image/png:https://www.puget-infos.fr/wp-content/uploads/2026/03/260717_event_mpl.png
ORGANIZER;CN="Le Mas Production":MAILTO:communication@lemas-concert.com
END:VEVENT
BEGIN:VEVENT
DTSTART;TZID=Europe/Paris:20260718T193000
DTEND;TZID=Europe/Paris:20260718T230000
DTSTAMP:20260421T152046
CREATED:20260316T134034Z
LAST-MODIFIED:20260316T134034Z
UID:731-1784403000-1784415600@www.puget-infos.fr
SUMMARY:[Le Mas Concert] Deluxe
DESCRIPTION:
URL:https://www.puget-infos.fr/event/le-mas-concert-deluxe/
LOCATION:Mas des Escaravatiers\, 514\, chemin de Saint-Tropez\, Puget sur Argens\, 83480\, France
CATEGORIES:A Puget sur Argens
ATTACH;FMTTYPE=image/png:https://www.puget-infos.fr/wp-content/uploads/2026/03/260718_event_deluxe.png
ORGANIZER;CN="Le Mas Production":MAILTO:communication@lemas-concert.com
END:VEVENT
BEGIN:VEVENT
DTSTART;TZID=Europe/Paris:20260730T193000
DTEND;TZID=Europe/Paris:20260730T230000
DTSTAMP:20260421T152046
CREATED:20260316T140120Z
LAST-MODIFIED:20260316T140120Z
UID:754-1785439800-1785452400@www.puget-infos.fr
SUMMARY:[Le Mas Concert] Piche
DESCRIPTION:
URL:https://www.puget-infos.fr/event/le-mas-concert-piche/
LOCATION:Mas des Escaravatiers\, 514\, chemin de Saint-Tropez\, Puget sur Argens\, 83480\, France
CATEGORIES:A Puget sur Argens
ORGANIZER;CN="Le Mas Production":MAILTO:communication@lemas-concert.com
END:VEVENT
END:VCALENDAR